BEGIN:VCALENDAR
VERSION:2.0
PRODID:-//Library Market//iCal Export//EN
BEGIN:VEVENT
SUMMARY:Summer Family Program: Science Heroes
UID:22043
DTSTAMP:20260420T162100Z
DTSTART:20260714T230000Z
DTEND:20260714T234500Z
LOCATION:Jessamine County Public Library, 600 S Main St, Nicholasville, KY
  40356, United States
ROOM: Meeting Room 1/2/3/4/5/6
DESCRIPTION:Our Summer Family Performances are family-friendly programs sp
 ecifically selected with elementary-aged students in mind. All ages are we
 lcome.Unearth your curiosity as we dig into the incredible science that’
 s all around us!Harness the power of pressure and energy with our Toilet T
 ornado™!Experiment with physical vs. chemical changes with our Disappear
 ing Polymer™!Observe the effects of physical explosions, angles, and tra
 jectory with our Hydro-Cannon™!And more!If you didn’t already love sci
 ence, you’ll really ‘dig it’ after experiencing Science Heroes!No re
 gistration is required.
URL:https://jessamine.librarycalendar.com/event/summer-family-program-scie
 nce-heroes-22043
END:VEVENT
END:VCALENDAR
