BEGIN:VCALENDAR
VERSION:2.0
PRODID:-//Library Market//iCal Export//EN
BEGIN:VEVENT
SUMMARY:Video Recording Basics
UID:21683
DTSTAMP:20260420T162100Z
DTSTART:20260724T203000Z
DTEND:20260724T213000Z
LOCATION:Jessamine County Public Library, 600 S Main St, Nicholasville, KY
  40356, United States
ROOM: Recording Studio
DESCRIPTION:Learn basic video filming techniques including how to use a tr
 ipod, lights, and green &amp; blue screens. Bring an SD card to save your 
 project.The online Intro to the Recording Studio or Recording Studio Basic
 s is the prerequisite for the class.Registration is required. 
URL:https://jessamine.librarycalendar.com/event/video-recording-basics-216
 83
END:VEVENT
END:VCALENDAR
