BEGIN:VCALENDAR
VERSION:2.0
PRODID:-//Library Market//iCal Export//EN
BEGIN:VEVENT
SUMMARY:Stuffie Sleepover: Campout at the Library
UID:21617
DTSTAMP:20260421T085500Z
DTSTART:20260717T220000Z
DTEND:20260717T224500Z
LOCATION:Jessamine County Public Library, 600 S Main St, Nicholasville, KY
  40356, United States
ROOM: Meeting Room 1/2/5/6
DESCRIPTION:Stuffed animals want to have fun too! Bring the whole family a
 nd drop off your child&#039;s favorite stuffie at the library for a very s
 pecial Stuffie Sleepover— this summer, the stuffies go camping! Your chi
 ld, their stuffie, and your family will get to participate in a campout-th
 emed storytime before leaving your stuffie at JCPL for a night of fun.Once
  everyone leaves for the night, the stuffies will enjoy their campout in t
 he library — and some of JCPL&#039;s librarians and staff will be around
  to take photos of all of their shenanigans! The next day, come pick up yo
 ur stuffie during the library&#039;s regular hours, along with a goodie ba
 g. You&#039;ll get to see photos of your stuffie and see all the fun they 
 had!Please note, no children will be sleeping over at the library — only
  stuffed animals may be dropped off. Registration is required. Please reg
 ister each child who will participate separately. Adults who will attend w
 ith their children do not need to register. 
URL:https://jessamine.librarycalendar.com/event/stuffie-sleepover-campout-
 library-21617
END:VEVENT
END:VCALENDAR
