BEGIN:VCALENDAR
VERSION:2.0
PRODID:-//Library Market//iCal Export//EN
BEGIN:VEVENT
SUMMARY:Juneteenth Celebration
UID:21441
DTSTAMP:20260419T145600Z
DTSTART:20260619T213000Z
DTEND:20260620T003000Z
LOCATION:Clint Hayden Park, 198 Jefferson St., Nicholasville, KY 40356, Ni
 cholasville, KY 40356, United States
ROOM: Juneteenth Celebration
DESCRIPTION:Celebrate Juneteenth, Freedom Day, in style! Enjoy electrifyin
 g performances by DJ Mike, M&#039;Power Rhythm, and The Sensations. Don’
 t forget your towels for an exciting foam party, get your face painted, an
 d savor delicious eats from local food trucks. Multiple community organiza
 tions will be on hand to share resources, and local vendors will have item
 s for sale. This will be a true celebration of community that you won&#039
 ;t want to miss!This event will take place at Clint Hayden Park.This event
  is sponsored by the Jessamine County Public Library, Jessamine County Fis
 cal Court, Nicholasville Jessamine County Parks and Recreation, and the Je
 ssamine County YMCA.No registration is required. 
URL:https://jessamine.librarycalendar.com/event/juneteenth-celebration-214
 41
END:VEVENT
END:VCALENDAR
