BEGIN:VCALENDAR
VERSION:2.0
PRODID:-//Library Market//iCal Export//EN
BEGIN:VEVENT
SUMMARY:Shapeoko CNC Basics
UID:21363
DTSTAMP:20260421T092000Z
DTSTART:20260712T180000Z
DTEND:20260712T200000Z
LOCATION:Jessamine County Public Library, 600 S Main St, Nicholasville, KY
  40356, United States
ROOM: Creative Space
DESCRIPTION:Learn the basic functions of Carbide Create software and carvi
 ng on the CNC machine: Shapeoko.The online Intro to the Creative Space Cl
 ass is the prerequisite for the class.Registration is required.
URL:https://jessamine.librarycalendar.com/event/shapeoko-cnc-basics-21363
END:VEVENT
END:VCALENDAR
