BEGIN:VCALENDAR
VERSION:2.0
PRODID:-//Library Market//iCal Export//EN
BEGIN:VEVENT
SUMMARY:Kinusaiga (Session #1)
UID:21087
DTSTAMP:20260420T162100Z
DTSTART:20260723T170000Z
DTEND:20260723T183000Z
LOCATION:Jessamine County Public Library, 600 S Main St, Nicholasville, KY
  40356, United States
ROOM: Meeting Room 1/2/5/6
DESCRIPTION:Come try your hand at Kinusaiga, a Japanese art form where fab
 ric scraps are pressed into slits in foam to create a design, without sewi
 ng! No experience is required and all supplies will be provided (although 
 if you have your own fabric scraps feel free to bring them). Note: There 
 are two identical sessions for Kinusaiga. Please only register for one ses
 sion!Registration is required. 
URL:https://jessamine.librarycalendar.com/event/kinusaiga-21087
END:VEVENT
END:VCALENDAR
