BEGIN:VCALENDAR
VERSION:2.0
PRODID:-//Library Market//iCal Export//EN
BEGIN:VEVENT
SUMMARY:Jewelry Studio Basics
UID:21076
DTSTAMP:20260420T162100Z
DTSTART:20260721T140000Z
DTEND:20260721T170000Z
LOCATION:Jessamine County Public Library, 600 S Main St, Nicholasville, KY
  40356, United States
ROOM: Creative Space
DESCRIPTION:
URL:https://jessamine.librarycalendar.com/event/jewelry-studio-basics-2107
 6
END:VEVENT
END:VCALENDAR
