BEGIN:VCALENDAR
VERSION:2.0
PRODID:-//Library Market//iCal Export//EN
BEGIN:VEVENT
SUMMARY:Crafternoon: Hot Air Balloons
UID:21074
DTSTAMP:20260421T125400Z
DTSTART:20260716T180000Z
DTEND:20260716T190000Z
LOCATION:Jessamine County Public Library, 600 S Main St, Nicholasville, KY
  40356, United States
ROOM: Meeting Room 1/2/5/6
DESCRIPTION:Join us for a relaxing afternoon crafting with friends! This m
 onth, we will be making miniature hot air balloons using origami paper and
  mod podge. Prepare that you might get a little messy! All skill levels ar
 e welcome and no experience is required. No registration is required.
URL:https://jessamine.librarycalendar.com/event/crafternoon-21074
END:VEVENT
END:VCALENDAR
