BEGIN:VCALENDAR
VERSION:2.0
PRODID:-//Library Market//iCal Export//EN
BEGIN:VEVENT
SUMMARY:Meet the Artists: Layering in Pastels
UID:21072
DTSTAMP:20260419T193700Z
DTSTART:20260611T213000Z
DTEND:20260611T223000Z
LOCATION:Jessamine County Public Library, 600 S Main St, Nicholasville, KY
  40356, United States
ROOM: Gallery
DESCRIPTION:Stop by to meet this month&#039;s gallery artists! Take a walk
  through the gallery to view the beautiful array of pastel artwork in the 
 show &quot;Layering in Pastels&quot; and take the opportunity to chat with
  the artists. Light refreshments will be available. No registration is re
 quired. 
URL:https://jessamine.librarycalendar.com/event/meet-artist-21072
END:VEVENT
END:VCALENDAR
