BEGIN:VCALENDAR
VERSION:2.0
PRODID:-//Library Market//iCal Export//EN
BEGIN:VEVENT
SUMMARY:Wrap Up Party Ice Cream Social for Teens
UID:20982
DTSTAMP:20260421T092000Z
DTSTART:20260715T180000Z
DTEND:20260715T193000Z
LOCATION:Jessamine County Public Library, 600 S Main St, Nicholasville, KY
  40356, United States
ROOM: Meeting Room 1/2/5/6
DESCRIPTION:Teens are invited to our Ice Cream Social to wrap up the seaso
 n with a build‑your‑own sundae bar, fun games, trivia, and more. Hang 
 out with friends, meet new people, and enjoy a chill afternoon at the libr
 ary before summer ends. Treats, laughs, and good vibes included. No regis
 tration is required. 
URL:https://jessamine.librarycalendar.com/event/teen-program-20982
END:VEVENT
END:VCALENDAR
