BEGIN:VCALENDAR
VERSION:2.0
PRODID:-//Library Market//iCal Export//EN
BEGIN:VEVENT
SUMMARY:Chess for Teens
UID:19612
DTSTAMP:20260419T193700Z
DTSTART:20260615T213000Z
DTEND:20260615T224500Z
LOCATION:Jessamine County Public Library, 600 S Main St, Nicholasville, KY
  40356, United States
ROOM: Meeting Room 1/2/5/6
DESCRIPTION:Join us for an evening of Chess. All skill levels are welcome.
  We will teach you the basics of the game, general strategy, popular moves
 , advanced rules, and how to record your games. And we will play lots of c
 hess! Experienced players are welcome to bring their own boards.Registrati
 on is required.   
URL:https://jessamine.librarycalendar.com/event/chess-teens-19612
END:VEVENT
END:VCALENDAR
