BEGIN:VCALENDAR
VERSION:2.0
PRODID:-//Library Market//iCal Export//EN
BEGIN:VEVENT
SUMMARY:Not a Beach Party
UID:17466
DTSTAMP:20260422T184000Z
DTSTART:20260725T230000Z
DTEND:20260726T003000Z
LOCATION:Riney B Park, 300 Martin Luther King Blvd., Nicholasville, KY 403
 56, United States
ROOM: Not a Beach Party
DESCRIPTION:Join us for a performance by Conch Republic, a high-energy, b
 each-themed band of fun characters performing your favorite songs from art
 ists like the Beach Boys, Jimmy Buffett, Bob Marley, Zac Brown, and Harry 
 Belafonte, plus some great originals. Conch Republic engages the crowd in 
 sing-alongs, conga lines, limbo, and dance contests, topping it off with c
 olorful costumes, lights, stage props, and party favors for those who like
  to join the fun.There will be a food truck and frozen treats for sale. Th
 is event will take place at the stage at Riney B. Park. Bring a blanket or
  lawn chair. No registration is required. 
URL:https://jessamine.librarycalendar.com/event/not-beach-party-17466
END:VEVENT
END:VCALENDAR
