BEGIN:VCALENDAR
VERSION:2.0
PRODID:-//Library Market//iCal Export//EN
BEGIN:VEVENT
SUMMARY:Intro to Vinyl Printing/Cutting
UID:15413
DTSTAMP:20260420T131000Z
DTSTART:20260604T170000Z
DTEND:20260604T180000Z
LOCATION:Jessamine County Public Library, 600 S Main St, Nicholasville, KY
  40356, United States
ROOM: Computer Lab
DESCRIPTION:
URL:https://jessamine.librarycalendar.com/event/intro-vinyl-printingcuttin
 g-15413
END:VEVENT
END:VCALENDAR
