BEGIN:VCALENDAR
VERSION:2.0
PRODID:-//Library Market//iCal Export//EN
BEGIN:VEVENT
SUMMARY:Banner Basics
UID:15407
DTSTAMP:20260419T193700Z
DTSTART:20260616T170000Z
DTEND:20260616T180000Z
LOCATION:Jessamine County Public Library, 600 S Main St, Nicholasville, KY
  40356, United States
ROOM: Computer Lab
DESCRIPTION:Learn the basic functions of creating banners and posters on o
 ur Roland Vinyl Printer/Cutter. Registration is required. 
URL:https://jessamine.librarycalendar.com/event/banner-basics-15407
END:VEVENT
END:VCALENDAR
